BEGIN:VCALENDAR
VERSION:2.0
PRODID:-//www.indexexhibition.com//NONSGML INDEX 2026//EN
METHOD:REQUEST
BEGIN:VEVENT
UID:20260421T094149-bYZguj8U@www.indexexhibition.com
DTSTAMP:20260421T094149Z
DTSTART:20260928T100000
DTEND:20260930T180000
LOCATION:Dubai Exhibition Centre (DEC)\, Expo City Dubai
SUMMARY:INDEX 2026
DESCRIPTION:28 &#8211\; 30 September 2026 | INDEX &#8211\; Interior Design & Furniture Exhibition is globally recognized as the ultimate trade show in Dubai. For over thirty years\, INDEX has facilitated connections among interior designers\, buyers\, retailers\, distributors\, consultants\, and contractors with leading brands\, innovative products\, and comprehensive services in the interior design and furniture industry. For the latest updates\, visit www.indexexhibition.com.
BEGIN:VALARM
TRIGGER:PT1W
ACTION:DISPLAY
DESCRIPTION:Reminder
END:VALARM
END:VEVENT
END:VCALENDAR
